BEGIN:VCALENDAR
VERSION:2.0
PRODID:-//Prunedale Post 593, The American Legion - ECPv6.15.20//NONSGML v1.0//EN
CALSCALE:GREGORIAN
METHOD:PUBLISH
X-WR-CALNAME:Prunedale Post 593, The American Legion
X-ORIGINAL-URL:https://americanlegionpost593.org
X-WR-CALDESC:Events for Prunedale Post 593, The American Legion
REFRESH-INTERVAL;VALUE=DURATION:PT1H
X-Robots-Tag:noindex
X-PUBLISHED-TTL:PT1H
BEGIN:VTIMEZONE
TZID:America/Los_Angeles
BEGIN:DAYLIGHT
TZOFFSETFROM:-0800
TZOFFSETTO:-0700
TZNAME:PDT
DTSTART:20240310T100000
END:DAYLIGHT
BEGIN:STANDARD
TZOFFSETFROM:-0700
TZOFFSETTO:-0800
TZNAME:PST
DTSTART:20241103T090000
END:STANDARD
BEGIN:DAYLIGHT
TZOFFSETFROM:-0800
TZOFFSETTO:-0700
TZNAME:PDT
DTSTART:20250309T100000
END:DAYLIGHT
BEGIN:STANDARD
TZOFFSETFROM:-0700
TZOFFSETTO:-0800
TZNAME:PST
DTSTART:20251102T090000
END:STANDARD
BEGIN:DAYLIGHT
TZOFFSETFROM:-0800
TZOFFSETTO:-0700
TZNAME:PDT
DTSTART:20260308T100000
END:DAYLIGHT
BEGIN:STANDARD
TZOFFSETFROM:-0700
TZOFFSETTO:-0800
TZNAME:PST
DTSTART:20261101T090000
END:STANDARD
END:VTIMEZONE
BEGIN:VEVENT
DTSTART;TZID=America/Los_Angeles:20251004T090000
DTEND;TZID=America/Los_Angeles:20251004T120000
DTSTAMP:20260421T101812
CREATED:20251008T120413Z
LAST-MODIFIED:20251008T120413Z
UID:124-1759568400-1759579200@americanlegionpost593.org
SUMMARY:Area 2 Meeting
DESCRIPTION:
URL:https://americanlegionpost593.org/event/area-2-meeting/
LOCATION:Gilroy Veterans Hall\, 74 W Sixth St\, Gilroy\, CA\, 95020\, United States
CATEGORIES:AREA 2
ORGANIZER;CN="Adjutant":MAILTO:adjutant@americanlegionpost593.org
END:VEVENT
END:VCALENDAR