BEGIN:VCALENDAR
VERSION:2.0
PRODID:-//Prunedale Post 593, The American Legion - ECPv6.15.20//NONSGML v1.0//EN
CALSCALE:GREGORIAN
METHOD:PUBLISH
X-WR-CALNAME:Prunedale Post 593, The American Legion
X-ORIGINAL-URL:https://americanlegionpost593.org
X-WR-CALDESC:Events for Prunedale Post 593, The American Legion
REFRESH-INTERVAL;VALUE=DURATION:PT1H
X-Robots-Tag:noindex
X-PUBLISHED-TTL:PT1H
BEGIN:VTIMEZONE
TZID:America/Los_Angeles
BEGIN:DAYLIGHT
TZOFFSETFROM:-0800
TZOFFSETTO:-0700
TZNAME:PDT
DTSTART:20240310T100000
END:DAYLIGHT
BEGIN:STANDARD
TZOFFSETFROM:-0700
TZOFFSETTO:-0800
TZNAME:PST
DTSTART:20241103T090000
END:STANDARD
BEGIN:DAYLIGHT
TZOFFSETFROM:-0800
TZOFFSETTO:-0700
TZNAME:PDT
DTSTART:20250309T100000
END:DAYLIGHT
BEGIN:STANDARD
TZOFFSETFROM:-0700
TZOFFSETTO:-0800
TZNAME:PST
DTSTART:20251102T090000
END:STANDARD
BEGIN:DAYLIGHT
TZOFFSETFROM:-0800
TZOFFSETTO:-0700
TZNAME:PDT
DTSTART:20260308T100000
END:DAYLIGHT
BEGIN:STANDARD
TZOFFSETFROM:-0700
TZOFFSETTO:-0800
TZNAME:PST
DTSTART:20261101T090000
END:STANDARD
END:VTIMEZONE
BEGIN:VEVENT
DTSTART;TZID=America/Los_Angeles:20251018T160000
DTEND;TZID=America/Los_Angeles:20251018T180000
DTSTAMP:20260421T094434
CREATED:20251008T114902Z
LAST-MODIFIED:20251008T055350Z
UID:120-1760803200-1760810400@americanlegionpost593.org
SUMMARY:Volunteer Appreciation
DESCRIPTION:INVITATION ONLY\n– Closed Door – \n  \nBe sure to keep an eye out for the invitation letter from our commanders!
URL:https://americanlegionpost593.org/event/volunteer-appreciation/
LOCATION:Prunedale Post 593\, 8300 Prunedale North Road\, Salinas\, 93907\, United States
CATEGORIES:Special
ORGANIZER;CN="Commander":MAILTO:info@americanlegionpost593.org
END:VEVENT
BEGIN:VEVENT
DTSTART;TZID=America/Los_Angeles:20251005T000000
DTEND;TZID=America/Los_Angeles:20251013T235959
DTSTAMP:20260421T094434
CREATED:20251008T120752Z
LAST-MODIFIED:20251008T121639Z
UID:127-1759622400-1760399999@americanlegionpost593.org
SUMMARY:San Francisco Fleet Week
DESCRIPTION:San Francisco Fleet Week 2025 will take place from October 5 to 13\, 2025\nThe most action packed events are expected to occur from October 10 to 12. Highlights include ship tours available throughout the week and special cruises on October 11 and 12 that offer great views of the air show. This annual event features the Blue Angels and various military displays\, drawing thousands of visitors to the city. 
URL:https://americanlegionpost593.org/event/san-francisco-fleet-week/
LOCATION:San Francisco\, San Francisco\, CA\, United States
CATEGORIES:Special
END:VEVENT
END:VCALENDAR