BEGIN:VCALENDAR
VERSION:2.0
PRODID:-//Prunedale Post 593, The American Legion - ECPv6.15.20//NONSGML v1.0//EN
CALSCALE:GREGORIAN
METHOD:PUBLISH
X-ORIGINAL-URL:https://americanlegionpost593.org
X-WR-CALDESC:Events for Prunedale Post 593, The American Legion
REFRESH-INTERVAL;VALUE=DURATION:PT1H
X-Robots-Tag:noindex
X-PUBLISHED-TTL:PT1H
BEGIN:VTIMEZONE
TZID:America/Los_Angeles
BEGIN:DAYLIGHT
TZOFFSETFROM:-0800
TZOFFSETTO:-0700
TZNAME:PDT
DTSTART:20240310T100000
END:DAYLIGHT
BEGIN:STANDARD
TZOFFSETFROM:-0700
TZOFFSETTO:-0800
TZNAME:PST
DTSTART:20241103T090000
END:STANDARD
BEGIN:DAYLIGHT
TZOFFSETFROM:-0800
TZOFFSETTO:-0700
TZNAME:PDT
DTSTART:20250309T100000
END:DAYLIGHT
BEGIN:STANDARD
TZOFFSETFROM:-0700
TZOFFSETTO:-0800
TZNAME:PST
DTSTART:20251102T090000
END:STANDARD
BEGIN:DAYLIGHT
TZOFFSETFROM:-0800
TZOFFSETTO:-0700
TZNAME:PDT
DTSTART:20260308T100000
END:DAYLIGHT
BEGIN:STANDARD
TZOFFSETFROM:-0700
TZOFFSETTO:-0800
TZNAME:PST
DTSTART:20261101T090000
END:STANDARD
BEGIN:DAYLIGHT
TZOFFSETFROM:-0800
TZOFFSETTO:-0700
TZNAME:PDT
DTSTART:20270314T100000
END:DAYLIGHT
BEGIN:STANDARD
TZOFFSETFROM:-0700
TZOFFSETTO:-0800
TZNAME:PST
DTSTART:20271107T090000
END:STANDARD
END:VTIMEZONE
BEGIN:VEVENT
DTSTART;TZID=America/Los_Angeles:20260128T180000
DTEND;TZID=America/Los_Angeles:20260128T193000
DTSTAMP:20260421T052137
CREATED:20260103T005157Z
LAST-MODIFIED:20260103T005200Z
UID:199-1769623200-1769628600@americanlegionpost593.org
SUMMARY:United Veteran Council - Monterey County
DESCRIPTION:The United Veterans Council of Monterey County was established on 24 October 1983 to promote the common good and welfare of all veterans\, their dependents\, widows\, orphans\, and citizens of the United States. The UVC was officially incorporated as a not-for-profit Veterans group — 501(c)3 — by the Internal Revenue Service with membership confined to veterans service organizations and their auxiliaries.monthly meeting – every last Wednesday from 6 pm to 7:30 pm
URL:https://americanlegionpost593.org/event/united-veteran-council-monterey-county/
END:VEVENT
BEGIN:VEVENT
DTSTART;TZID=America/Los_Angeles:20260118T090000
DTEND;TZID=America/Los_Angeles:20260118T120000
DTSTAMP:20260421T052137
CREATED:20260117T192421Z
LAST-MODIFIED:20260117T193448Z
UID:216-1768726800-1768737600@americanlegionpost593.org
SUMMARY:District 28 Meeting
DESCRIPTION:We’re gathering at Marina Post 694 for this month’s District Meeting — and the moment is made even more special as we welcome Janice Somers\, our incoming Department Commander for 2026–2027\, joining us as our honored guest. \n\n\n\nlink below to Post 694 (Google Map)https://maps.app.goo.gl/TFc4CAvoXeWGFJzY6
URL:https://americanlegionpost593.org/event/district-28-meeting/
END:VEVENT
BEGIN:VEVENT
DTSTART;TZID=America/Los_Angeles:20260117T090000
DTEND;TZID=America/Los_Angeles:20260117T110000
DTSTAMP:20260421T052137
CREATED:20260103T003704Z
LAST-MODIFIED:20260103T003707Z
UID:196-1768640400-1768647600@americanlegionpost593.org
SUMMARY:Monthly Membership Meeting
DESCRIPTION:09:00 am Executive Officer Meeting10:00 am General Membership Meetingtidbit\, Following Sunday Jan 18th\, D28 Meeting @Post 694\, 10:00 AM
URL:https://americanlegionpost593.org/event/monthly-membership-meeting-2/
END:VEVENT
BEGIN:VEVENT
DTSTART;TZID=America/Los_Angeles:20251029T183000
DTEND;TZID=America/Los_Angeles:20251029T193000
DTSTAMP:20260421T052137
CREATED:20251008T122109Z
LAST-MODIFIED:20251008T122109Z
UID:135-1761762600-1761766200@americanlegionpost593.org
SUMMARY:UVC Monterey Membership Meeting
DESCRIPTION:
URL:https://americanlegionpost593.org/event/uvc-monterey-membership-meeting/
LOCATION:Monterey County VSO\, 2620 1st Ave\, Marina\, CA\, 93933\, United States
CATEGORIES:Monthly,UVC
END:VEVENT
BEGIN:VEVENT
DTSTART;TZID=America/Los_Angeles:20251018T160000
DTEND;TZID=America/Los_Angeles:20251018T180000
DTSTAMP:20260421T052137
CREATED:20251008T114902Z
LAST-MODIFIED:20251008T055350Z
UID:120-1760803200-1760810400@americanlegionpost593.org
SUMMARY:Volunteer Appreciation
DESCRIPTION:INVITATION ONLY\n– Closed Door – \n  \nBe sure to keep an eye out for the invitation letter from our commanders!
URL:https://americanlegionpost593.org/event/volunteer-appreciation/
LOCATION:Prunedale Post 593\, 8300 Prunedale North Road\, Salinas\, 93907\, United States
CATEGORIES:Special
ORGANIZER;CN="Commander":MAILTO:info@americanlegionpost593.org
END:VEVENT
BEGIN:VEVENT
DTSTART;TZID=America/Los_Angeles:20251018T090000
DTEND;TZID=America/Los_Angeles:20251018T110000
DTSTAMP:20260421T052137
CREATED:20251008T110930Z
LAST-MODIFIED:20251008T115947Z
UID:109-1760778000-1760785200@americanlegionpost593.org
SUMMARY:Monthly Membership Meeting
DESCRIPTION:Every 3rd Saturday Morning \n0900 Executive Board\nfollowed by\n1000 General Membership
URL:https://americanlegionpost593.org/event/monthly-membership-meeting/
LOCATION:Prunedale Post 593\, 8300 Prunedale North Road\, Salinas\, 93907\, United States
CATEGORIES:Monthly
ORGANIZER;CN="Commander":MAILTO:info@americanlegionpost593.org
END:VEVENT
BEGIN:VEVENT
DTSTART;TZID=America/Los_Angeles:20251005T000000
DTEND;TZID=America/Los_Angeles:20251013T235959
DTSTAMP:20260421T052137
CREATED:20251008T120752Z
LAST-MODIFIED:20251008T121639Z
UID:127-1759622400-1760399999@americanlegionpost593.org
SUMMARY:San Francisco Fleet Week
DESCRIPTION:San Francisco Fleet Week 2025 will take place from October 5 to 13\, 2025\nThe most action packed events are expected to occur from October 10 to 12. Highlights include ship tours available throughout the week and special cruises on October 11 and 12 that offer great views of the air show. This annual event features the Blue Angels and various military displays\, drawing thousands of visitors to the city. 
URL:https://americanlegionpost593.org/event/san-francisco-fleet-week/
LOCATION:San Francisco\, San Francisco\, CA\, United States
CATEGORIES:Special
END:VEVENT
BEGIN:VEVENT
DTSTART;TZID=America/Los_Angeles:20251004T090000
DTEND;TZID=America/Los_Angeles:20251004T120000
DTSTAMP:20260421T052137
CREATED:20251008T120413Z
LAST-MODIFIED:20251008T120413Z
UID:124-1759568400-1759579200@americanlegionpost593.org
SUMMARY:Area 2 Meeting
DESCRIPTION:
URL:https://americanlegionpost593.org/event/area-2-meeting/
LOCATION:Gilroy Veterans Hall\, 74 W Sixth St\, Gilroy\, CA\, 95020\, United States
CATEGORIES:AREA 2
ORGANIZER;CN="Adjutant":MAILTO:adjutant@americanlegionpost593.org
END:VEVENT
END:VCALENDAR